BEGIN:VCALENDAR
VERSION:2.0
PRODID:-//PYVOBJECT//NONSGML Version 0.9.9//EN
X-WR-TIMEZONE:Africa/Johannesburg
BEGIN:VTIMEZONE
TZID:Africa/Johannesburg
BEGIN:STANDARD
DTSTART:20000101T000000
RRULE:FREQ=YEARLY;BYMONTH=1
TZNAME:SAST
TZOFFSETFROM:+0200
TZOFFSETTO:+0200
END:STANDARD
END:VTIMEZONE
BEGIN:VEVENT
UID:20260425T142840Z - 17549@eos-content
DTSTART;TZID=Africa/Johannesburg:20260428T180000
DTEND;TZID=Africa/Johannesburg:20260428T190000
ATTENDEE:MAILTO:kareemamoses@gmail.com
DESCRIPTION:https://www.propertycpt.co.za/results/residential/for-sale/cape
 -town/surrey-estate/house/3125933/\n\nContact agent for the address\n\nKar
 eema Isaacs (0787407116)
DTSTAMP:20260425T142840Z
LOCATION:Surrey Estate\, Cape Town
SUMMARY:Property CPT Show Day - RL3261
END:VEVENT
END:VCALENDAR
